BEGIN:VCALENDAR
VERSION:2.0
PRODID:-//Grace Bible Church - Leesville, LA - ECPv6.3.7//NONSGML v1.0//EN
CALSCALE:GREGORIAN
METHOD:PUBLISH
X-WR-CALNAME:Grace Bible Church - Leesville, LA
X-ORIGINAL-URL:http://gbc-leesville.org
X-WR-CALDESC:Events for Grace Bible Church - Leesville, LA
REFRESH-INTERVAL;VALUE=DURATION:PT1H
X-Robots-Tag:noindex
X-PUBLISHED-TTL:PT1H
BEGIN:VTIMEZONE
TZID:America/Chicago
BEGIN:DAYLIGHT
TZOFFSETFROM:-0600
TZOFFSETTO:-0500
TZNAME:CDT
DTSTART:20150308T080000
END:DAYLIGHT
BEGIN:STANDARD
TZOFFSETFROM:-0500
TZOFFSETTO:-0600
TZNAME:CST
DTSTART:20151101T070000
END:STANDARD
END:VTIMEZONE
BEGIN:VEVENT
DTSTART;TZID=America/Chicago:20150930T173000
DTEND;TZID=America/Chicago:20150930T180000
DTSTAMP:20260420T015328
CREATED:20150925T174747Z
LAST-MODIFIED:20150925T174747Z
UID:833-1443634200-1443636000@gbc-leesville.org
SUMMARY:Supper
DESCRIPTION:
URL:http://gbc-leesville.org/event/supper/
LOCATION:Grace Bible Church\, 1101 Boone St.\, Leesville\, LA\, United States
CATEGORIES:Church
END:VEVENT
BEGIN:VEVENT
DTSTART;TZID=America/Chicago:20150928T100000
DTEND;TZID=America/Chicago:20150928T110000
DTSTAMP:20260420T015328
CREATED:20150925T172708Z
LAST-MODIFIED:20150925T173622Z
UID:812-1443434400-1443438000@gbc-leesville.org
SUMMARY:Ladies Bible Study
DESCRIPTION:
URL:http://gbc-leesville.org/event/ladies-bible-study-9/
LOCATION:Grace Bible Church\, 1101 Boone St.\, Leesville\, LA\, United States
CATEGORIES:Church
END:VEVENT
BEGIN:VEVENT
DTSTART;TZID=America/Chicago:20150927T104500
DTEND;TZID=America/Chicago:20150927T120000
DTSTAMP:20260420T015328
CREATED:20150925T172903Z
LAST-MODIFIED:20150925T173617Z
UID:814-1443350700-1443355200@gbc-leesville.org
SUMMARY:Worship
DESCRIPTION:Children’s Church (K – 12 years) A nursery is provided (0 – 4 yrs.)
URL:http://gbc-leesville.org/event/worship-9/
LOCATION:Grace Bible Church\, 1101 Boone St.\, Leesville\, LA\, United States
CATEGORIES:Church
END:VEVENT
BEGIN:VEVENT
DTSTART;TZID=America/Chicago:20150927T092500
DTEND;TZID=America/Chicago:20150927T103000
DTSTAMP:20260420T015328
CREATED:20150925T173029Z
LAST-MODIFIED:20150925T173539Z
UID:817-1443345900-1443349800@gbc-leesville.org
SUMMARY:Bible Study/Sunday School
DESCRIPTION:
URL:http://gbc-leesville.org/event/bible-studysunday-school-9/
LOCATION:Grace Bible Church\, 1101 Boone St.\, Leesville\, LA\, United States
CATEGORIES:Church
END:VEVENT
BEGIN:VEVENT
DTSTART;TZID=America/Chicago:20150629T100000
DTEND;TZID=America/Chicago:20150629T110000
DTSTAMP:20260420T015328
CREATED:20150513T221945Z
LAST-MODIFIED:20150513T221945Z
UID:801-1435572000-1435575600@gbc-leesville.org
SUMMARY:Ladies Bible Study
DESCRIPTION:
URL:http://gbc-leesville.org/event/ladies-bible-study-8/
LOCATION:Grace Bible Church\, 1101 Boone St.\, Leesville\, LA\, United States
CATEGORIES:Church
END:VEVENT
BEGIN:VEVENT
DTSTART;TZID=America/Chicago:20150628T104500
DTEND;TZID=America/Chicago:20150628T120000
DTSTAMP:20260420T015328
CREATED:20150513T221742Z
LAST-MODIFIED:20150513T221742Z
UID:797-1435488300-1435492800@gbc-leesville.org
SUMMARY:Worship
DESCRIPTION:Children’s Church (K – 12 years) A nursery is provided (0 – 4 yrs.)
URL:http://gbc-leesville.org/event/worship-8/
LOCATION:Grace Bible Church\, 1101 Boone St.\, Leesville\, LA\, United States
CATEGORIES:Church
END:VEVENT
BEGIN:VEVENT
DTSTART;TZID=America/Chicago:20150628T092500
DTEND;TZID=America/Chicago:20150628T103000
DTSTAMP:20260420T015328
CREATED:20150513T221527Z
LAST-MODIFIED:20150513T221527Z
UID:793-1435483500-1435487400@gbc-leesville.org
SUMMARY:Bible Study/Sunday School
DESCRIPTION:
URL:http://gbc-leesville.org/event/bible-studysunday-school-8/
LOCATION:Grace Bible Church\, 1101 Boone St.\, Leesville\, LA\, United States
CATEGORIES:Church
END:VEVENT
BEGIN:VEVENT
DTSTART;TZID=America/Chicago:20150624T180000
DTEND;TZID=America/Chicago:20150624T190000
DTSTAMP:20260420T015328
CREATED:20150512T130030Z
LAST-MODIFIED:20150512T130030Z
UID:785-1435168800-1435172400@gbc-leesville.org
SUMMARY:Mid-Week Fellowship
DESCRIPTION:Join us Wednesday night at 6:00 for How to live a no-regrets life. Meal served from 5:30 to 5:50.
URL:http://gbc-leesville.org/event/mid-week-fellowship-4/
LOCATION:Grace Bible Church\, 1101 Boone St.\, Leesville\, LA\, United States
CATEGORIES:Church
END:VEVENT
BEGIN:VEVENT
DTSTART;TZID=America/Chicago:20150622T100000
DTEND;TZID=America/Chicago:20150622T110000
DTSTAMP:20260420T015328
CREATED:20150513T221913Z
LAST-MODIFIED:20150513T221913Z
UID:800-1434967200-1434970800@gbc-leesville.org
SUMMARY:Ladies Bible Study
DESCRIPTION:
URL:http://gbc-leesville.org/event/ladies-bible-study-7/
LOCATION:Grace Bible Church\, 1101 Boone St.\, Leesville\, LA\, United States
CATEGORIES:Church
END:VEVENT
BEGIN:VEVENT
DTSTART;TZID=America/Chicago:20150621T104500
DTEND;TZID=America/Chicago:20150621T120000
DTSTAMP:20260420T015328
CREATED:20150513T221716Z
LAST-MODIFIED:20150513T221716Z
UID:796-1434883500-1434888000@gbc-leesville.org
SUMMARY:Worship
DESCRIPTION:Children’s Church (K – 12 years) A nursery is provided (0 – 4 yrs.)
URL:http://gbc-leesville.org/event/worship-7/
LOCATION:Grace Bible Church\, 1101 Boone St.\, Leesville\, LA\, United States
CATEGORIES:Church
END:VEVENT
BEGIN:VEVENT
DTSTART;TZID=America/Chicago:20150621T093000
DTEND;TZID=America/Chicago:20150621T103000
DTSTAMP:20260420T015328
CREATED:20150513T221457Z
LAST-MODIFIED:20150513T221457Z
UID:792-1434879000-1434882600@gbc-leesville.org
SUMMARY:Bible Study/Sunday School
DESCRIPTION:
URL:http://gbc-leesville.org/event/bible-studysunday-school-7/
LOCATION:Grace Bible Church\, 1101 Boone St.\, Leesville\, LA\, United States
CATEGORIES:Church
END:VEVENT
BEGIN:VEVENT
DTSTART;TZID=America/Chicago:20150617T180000
DTEND;TZID=America/Chicago:20150617T190000
DTSTAMP:20260420T015328
CREATED:20150512T125952Z
LAST-MODIFIED:20150512T130045Z
UID:784-1434564000-1434567600@gbc-leesville.org
SUMMARY:Mid-Week Fellowship
DESCRIPTION:Join us Wednesday night at 6:00 for How to live a no-regrets life. Meal served from 5:30 to 5:50.
URL:http://gbc-leesville.org/event/mid-week-fellowship-3/
LOCATION:LA
CATEGORIES:Church
END:VEVENT
BEGIN:VEVENT
DTSTART;TZID=America/Chicago:20150615T100000
DTEND;TZID=America/Chicago:20150615T110000
DTSTAMP:20260420T015328
CREATED:20150513T221852Z
LAST-MODIFIED:20150513T221852Z
UID:799-1434362400-1434366000@gbc-leesville.org
SUMMARY:Ladies Bible Study
DESCRIPTION:
URL:http://gbc-leesville.org/event/ladies-bible-study-6/
LOCATION:Grace Bible Church\, 1101 Boone St.\, Leesville\, LA\, United States
CATEGORIES:Church
END:VEVENT
BEGIN:VEVENT
DTSTART;TZID=America/Chicago:20150614T104500
DTEND;TZID=America/Chicago:20150614T120000
DTSTAMP:20260420T015328
CREATED:20150513T221647Z
LAST-MODIFIED:20150513T221647Z
UID:795-1434278700-1434283200@gbc-leesville.org
SUMMARY:Worship
DESCRIPTION:Children’s Church (K – 12 years) A nursery is provided (0 – 4 yrs.)
URL:http://gbc-leesville.org/event/worship-6/
LOCATION:Grace Bible Church\, 1101 Boone St.\, Leesville\, LA\, United States
CATEGORIES:Church
END:VEVENT
BEGIN:VEVENT
DTSTART;TZID=America/Chicago:20150614T093000
DTEND;TZID=America/Chicago:20150614T103000
DTSTAMP:20260420T015328
CREATED:20150513T221425Z
LAST-MODIFIED:20150513T221425Z
UID:791-1434274200-1434277800@gbc-leesville.org
SUMMARY:Bible Study/Sunday School
DESCRIPTION:
URL:http://gbc-leesville.org/event/bible-studysunday-school-6/
LOCATION:Grace Bible Church\, 1101 Boone St.\, Leesville\, LA\, United States
CATEGORIES:Church
END:VEVENT
BEGIN:VEVENT
DTSTART;TZID=America/Chicago:20150610T180000
DTEND;TZID=America/Chicago:20150610T190000
DTSTAMP:20260420T015328
CREATED:20150512T125918Z
LAST-MODIFIED:20150512T130057Z
UID:783-1433959200-1433962800@gbc-leesville.org
SUMMARY:Mid-Week Fellowship
DESCRIPTION:Join us Wednesday night at 6:00 for How to live a no-regrets life. Meal served from 5:30 to 5:50.
URL:http://gbc-leesville.org/event/mid-week-fellowship-2/
LOCATION:Grace Bible Church\, 1101 Boone St.\, Leesville\, LA\, United States
CATEGORIES:Church
END:VEVENT
BEGIN:VEVENT
DTSTART;TZID=America/Chicago:20150608T100000
DTEND;TZID=America/Chicago:20150608T110000
DTSTAMP:20260420T015328
CREATED:20150513T221828Z
LAST-MODIFIED:20150513T221828Z
UID:798-1433757600-1433761200@gbc-leesville.org
SUMMARY:Ladies Bible Study
DESCRIPTION:
URL:http://gbc-leesville.org/event/ladies-bible-study-5/
LOCATION:Grace Bible Church\, 1101 Boone St.\, Leesville\, LA\, United States
CATEGORIES:Church
END:VEVENT
BEGIN:VEVENT
DTSTART;VALUE=DATE:20150608
DTEND;VALUE=DATE:20150613
DTSTAMP:20260420T015328
CREATED:20150507T231811Z
LAST-MODIFIED:20150507T231811Z
UID:723-1433721600-1434153599@gbc-leesville.org
SUMMARY:Vacation Bible School
DESCRIPTION:
URL:http://gbc-leesville.org/event/vacation-bible-school/
LOCATION:Grace Bible Church\, 1101 Boone St.\, Leesville\, LA\, United States
CATEGORIES:Church
END:VEVENT
BEGIN:VEVENT
DTSTART;TZID=America/Chicago:20150607T104500
DTEND;TZID=America/Chicago:20150607T120000
DTSTAMP:20260420T015328
CREATED:20150513T221616Z
LAST-MODIFIED:20150513T221616Z
UID:794-1433673900-1433678400@gbc-leesville.org
SUMMARY:Worship
DESCRIPTION:Children’s Church (K – 12 years) A nursery is provided (0 – 4 yrs.)
URL:http://gbc-leesville.org/event/worship-5/
LOCATION:Grace Bible Church\, 1101 Boone St.\, Leesville\, LA\, United States
CATEGORIES:Church
END:VEVENT
BEGIN:VEVENT
DTSTART;TZID=America/Chicago:20150607T093000
DTEND;TZID=America/Chicago:20150607T103000
DTSTAMP:20260420T015328
CREATED:20150513T221352Z
LAST-MODIFIED:20150513T221352Z
UID:790-1433669400-1433673000@gbc-leesville.org
SUMMARY:Bible Study/Sunday School
DESCRIPTION:
URL:http://gbc-leesville.org/event/bible-studysunday-school-5/
LOCATION:Grace Bible Church\, 1101 Boone St.\, Leesville\, LA\, United States
CATEGORIES:Church
END:VEVENT
BEGIN:VEVENT
DTSTART;TZID=America/Chicago:20150603T180000
DTEND;TZID=America/Chicago:20150603T190000
DTSTAMP:20260420T015328
CREATED:20150512T124132Z
LAST-MODIFIED:20150512T130107Z
UID:782-1433354400-1433358000@gbc-leesville.org
SUMMARY:Mid-Week Fellowship
DESCRIPTION:Join us Wednesday night at 6:00 for How to live a no-regrets life. Meal served from 5:30 to 5:50.
URL:http://gbc-leesville.org/event/mid-week-fellowship/
LOCATION:Grace Bible Church\, 1101 Boone St.\, Leesville\, LA\, United States
CATEGORIES:Church
END:VEVENT
BEGIN:VEVENT
DTSTART;TZID=America/Chicago:20150601T100000
DTEND;TZID=America/Chicago:20150601T110000
DTSTAMP:20260420T015328
CREATED:20150507T230337Z
LAST-MODIFIED:20150507T230533Z
UID:711-1433152800-1433156400@gbc-leesville.org
SUMMARY:Ladies Bible Study
DESCRIPTION:
URL:http://gbc-leesville.org/event/ladies-bible-study-4/
LOCATION:Grace Bible Church\, 1101 Boone St.\, Leesville\, LA\, United States
CATEGORIES:Church
END:VEVENT
BEGIN:VEVENT
DTSTART;TZID=America/Chicago:20150531T104500
DTEND;TZID=America/Chicago:20150531T120000
DTSTAMP:20260420T015328
CREATED:20150507T225938Z
LAST-MODIFIED:20150507T225938Z
UID:707-1433069100-1433073600@gbc-leesville.org
SUMMARY:Worship
DESCRIPTION:Children’s Church (K – 12 years)\nA nursery is provided (0 – 4 yrs.)
URL:http://gbc-leesville.org/event/worship-4/
LOCATION:Grace Bible Church\, 1101 Boone St.\, Leesville\, LA\, United States
CATEGORIES:Church
END:VEVENT
BEGIN:VEVENT
DTSTART;TZID=America/Chicago:20150531T093000
DTEND;TZID=America/Chicago:20150531T103000
DTSTAMP:20260420T015328
CREATED:20150507T195739Z
LAST-MODIFIED:20150507T195819Z
UID:702-1433064600-1433068200@gbc-leesville.org
SUMMARY:Bible Study/Sunday School
DESCRIPTION:
URL:http://gbc-leesville.org/event/bible-studysunday-school-4/
LOCATION:Grace Bible Church\, 1101 Boone St.\, Leesville\, LA\, United States
CATEGORIES:Church
END:VEVENT
BEGIN:VEVENT
DTSTART;TZID=America/Chicago:20150527T190000
DTEND;TZID=America/Chicago:20150527T200000
DTSTAMP:20260420T015328
CREATED:20150507T230908Z
LAST-MODIFIED:20150508T173139Z
UID:714-1432753200-1432756800@gbc-leesville.org
SUMMARY:Mid-Week Fellowship
DESCRIPTION:Join us Wednesday night at 6:00 for How to live a no-regrets life.\nMeal served from 5:30 to 5:50. 
URL:http://gbc-leesville.org/event/wednesday-3/
LOCATION:Grace Bible Church\, 1101 Boone St.\, Leesville\, LA\, United States
CATEGORIES:Church
END:VEVENT
BEGIN:VEVENT
DTSTART;TZID=America/Chicago:20150525T100000
DTEND;TZID=America/Chicago:20150525T110000
DTSTAMP:20260420T015328
CREATED:20150507T230311Z
LAST-MODIFIED:20150507T230513Z
UID:710-1432548000-1432551600@gbc-leesville.org
SUMMARY:Ladies Bible Study
DESCRIPTION:
URL:http://gbc-leesville.org/event/ladies-bible-study-3/
LOCATION:Grace Bible Church\, 1101 Boone St.\, Leesville\, LA\, United States
CATEGORIES:Church
END:VEVENT
BEGIN:VEVENT
DTSTART;TZID=America/Chicago:20150524T104500
DTEND;TZID=America/Chicago:20150524T120000
DTSTAMP:20260420T015328
CREATED:20150507T225902Z
LAST-MODIFIED:20150507T225902Z
UID:706-1432464300-1432468800@gbc-leesville.org
SUMMARY:Worship
DESCRIPTION:Children’s Church (K – 12 years)\nA nursery is provided (0 – 4 yrs.)
URL:http://gbc-leesville.org/event/worship-3/
LOCATION:Grace Bible Church\, 1101 Boone St.\, Leesville\, LA\, United States
CATEGORIES:Church
END:VEVENT
BEGIN:VEVENT
DTSTART;TZID=America/Chicago:20150524T093000
DTEND;TZID=America/Chicago:20150524T103000
DTSTAMP:20260420T015328
CREATED:20150507T195708Z
LAST-MODIFIED:20150507T195823Z
UID:701-1432459800-1432463400@gbc-leesville.org
SUMMARY:Bible Study/Sunday School
DESCRIPTION:
URL:http://gbc-leesville.org/event/bible-studysunday-school-3/
LOCATION:Grace Bible Church\, 1101 Boone St.\, Leesville\, LA\, United States
CATEGORIES:Church
END:VEVENT
BEGIN:VEVENT
DTSTART;TZID=America/Chicago:20150520T180000
DTEND;TZID=America/Chicago:20150520T190000
DTSTAMP:20260420T015328
CREATED:20150507T230835Z
LAST-MODIFIED:20150508T173151Z
UID:713-1432144800-1432148400@gbc-leesville.org
SUMMARY:Mid-Week Fellowship
DESCRIPTION:Join us Wednesday night at 6:00 for How to live a no-regrets life.\nMeal served from 5:30 to 5:50. 
URL:http://gbc-leesville.org/event/wednesday-2/
LOCATION:Grace Bible Church\, 1101 Boone St.\, Leesville\, LA\, United States
CATEGORIES:Church
END:VEVENT
BEGIN:VEVENT
DTSTART;TZID=America/Chicago:20150518T100000
DTEND;TZID=America/Chicago:20150518T110000
DTSTAMP:20260420T015328
CREATED:20150507T230249Z
LAST-MODIFIED:20150507T230454Z
UID:709-1431943200-1431946800@gbc-leesville.org
SUMMARY:Ladies Bible Study
DESCRIPTION:
URL:http://gbc-leesville.org/event/ladies-bible-study-2/
LOCATION:Grace Bible Church\, 1101 Boone St.\, Leesville\, LA\, United States
CATEGORIES:Church
END:VEVENT
END:VCALENDAR